BEGIN:VCALENDAR
VERSION:2.0
PRODID:icalendar-ruby
CALSCALE:GREGORIAN
METHOD:PUBLISH
BEGIN:VEVENT
DTSTAMP:20260422T005940Z
UID:157-643189@myuturn.org
DTSTART:20261020T003000Z
DTEND:20261020T013000Z
CLASS:PUBLIC
CREATED:20260421T185411
DESCRIPTION:Soldiers of the Cross is a brotherhood where men gather for fel
 lowship\, encouragement\, and spiritual growth. Every Monday night\, we co
 nnect\, share a meal\, build community\, and dig into God’s Word togethe
 r. These are nights of real conversations\, deeper faith\, and strengthene
 d purpose. No perfection—just men pursuing Jesus\, anchored to the Cross
 \, and growing in the truth of Scripture.\nJoin us every Monday at 7:30PM 
 for fellowship and the Word. This is where warriors are shaped and hearts 
 are renewed.
LAST-MODIFIED:20260421T185411
LOCATION:35 E. North Ave\, Northlake IL 60164
SUMMARY:Soldiers of the Cross Men's Group
URL;VALUE=URI:https://www.myuturn.org/events/soldiers-of-the-cross-mens-gro
 up/2026-10-19
ATTACH;FILENAME=Mens group 16-9.jpeg;FMTTYPE=image/jpeg:https://dq5pwpg1q8r
 u0.cloudfront.net/2026/01/02/06/27/45/fdc0d301-e8fd-493e-84c0-6271dd9b20f6
 /Mens%20group%2016-9.jpeg
END:VEVENT
END:VCALENDAR
