BEGIN:VCALENDAR
VERSION:2.0
PRODID:icalendar-ruby
CALSCALE:GREGORIAN
METHOD:PUBLISH
BEGIN:VEVENT
DTSTAMP:20260421T112623Z
UID:151-641577@myuturn.org
DTSTART:20261021T000000Z
DTEND:20261021T020000Z
CLASS:PUBLIC
CREATED:20260421T054705
DESCRIPTION:Revival Night is a space for fresh fire\, deep worship\, and re
 al encounters with Jesus. These are nights where hearts awaken\, faith ris
 es\, and God moves without limits. Come hungry\, come expectant—this is 
 where revival starts in us.
LAST-MODIFIED:20260421T054705
LOCATION:35 E. North Ave\, Northlake IL 60164
SUMMARY:Revival Night
URL;VALUE=URI:https://www.myuturn.org/events/revival-night/2026-10-20
ATTACH;FILENAME=Revival Night 16-9.jpeg;FMTTYPE=image/jpeg:https://dq5pwpg1
 q8ru0.cloudfront.net/2026/01/02/03/14/51/feaca893-754d-4bfb-8cf5-d8386d3ff
 309/Revival%20Night%2016-9.jpeg
END:VEVENT
END:VCALENDAR
