BEGIN:VCALENDAR
VERSION:2.0
PRODID:icalendar-ruby
CALSCALE:GREGORIAN
METHOD:PUBLISH
BEGIN:VEVENT
DTSTAMP:20260419T122321Z
UID:152-638038@myuturn.org
DTSTART:20261021T003000Z
DTEND:20261021T013000Z
CLASS:PUBLIC
CREATED:20260419T060706
DESCRIPTION:
LAST-MODIFIED:20260419T060706
LOCATION:35 E. North Ave\, Northlake IL 60164
SUMMARY:Pulse Youth Group
URL;VALUE=URI:https://www.myuturn.org/events/pulse-youth-group/2026-10-20
END:VEVENT
END:VCALENDAR
