BEGIN:VCALENDAR
VERSION:2.0
PRODID:icalendar-ruby
CALSCALE:GREGORIAN
METHOD:PUBLISH
BEGIN:VEVENT
DTSTAMP:20260421T125603Z
UID:152-641613@myuturn.org
DTSTART:20261007T003000Z
DTEND:20261007T013000Z
CLASS:PUBLIC
CREATED:20260421T054706
DESCRIPTION:
LAST-MODIFIED:20260421T054706
LOCATION:35 E. North Ave\, Northlake IL 60164
SUMMARY:Pulse Youth Group
URL;VALUE=URI:https://www.myuturn.org/events/pulse-youth-group/2026-10-06
END:VEVENT
END:VCALENDAR
